BEGIN:VCALENDAR
VERSION:2.0
PRODID:-//eventon.com NONSGML v1.0//EN
BEGIN:VEVENT
UID:69e4e02e481e3
DTSTAMP:20260419T160118
DTSTART:20160515T090000Z
DTEND:20160514T230000Z
LOCATION:Ljusterö Bygdegård Mellansjövägen 82 184 95 Ljusterö
SUMMARY:Ljusterö Bygdegård
DESCRIPTION: Visning och anbud från kl. 10.30.
END:VEVENT
END:VCALENDAR