BEGIN:VCALENDAR
VERSION:2.0
PRODID:-//eventon.com NONSGML v1.0//EN
BEGIN:VEVENT
UID:69ea341014b6e
DTSTAMP:20260423T170032
DTSTART:20161023T090000Z
DTEND:20161022T230000Z
LOCATION:Vrena Folkets Hus Parkvägen 15 611 73 Vrena
SUMMARY:Vrena Folkets Hus
DESCRIPTION: Visning och anbud från kl. 10.30.
END:VEVENT
END:VCALENDAR