BEGIN:VCALENDAR
VERSION:2.0
PRODID:-//eventon.com NONSGML v1.0//EN
BEGIN:VEVENT
UID:69e4e28d81455
DTSTAMP:20260419T161125
DTSTART:20170105T150000Z
DTEND:20170105T200000Z
LOCATION:Vassunda Bygdegård Vassunda Örby 11 741 91 Knivsta
SUMMARY:Vassunda Bygdegård
DESCRIPTION: Visning och anbud från kl. 16.30. Varmt välkomna!
END:VEVENT
END:VCALENDAR