BEGIN:VCALENDAR
VERSION:2.0
PRODID:-//eventon.com NONSGML v1.0//EN
BEGIN:VEVENT
UID:69ecbc8396dd0
DTSTAMP:20260425T150715
DTSTART:20170205T090000Z
DTEND:20170205T160000Z
LOCATION:Park Folkets Hus (Örby/Älvsjö) Götalandsvägen 181 125 35 Älvsjö
SUMMARY:Park Folkets Hus (Örby/Älvsjö)
DESCRIPTION: Visning och anbud från kl. 10.30. Varmt välkomna!
END:VEVENT
END:VCALENDAR