BEGIN:VCALENDAR
VERSION:2.0
PRODID:-//eventon.com NONSGML v1.0//EN
BEGIN:VEVENT
UID:69e5fa40a1064
DTSTAMP:20260420T120448
DTSTART:20170305T090000Z
DTEND:20170305T160000Z
LOCATION:Härads Bygdegård Zabergsvägen 645 91 Strängnäs
SUMMARY:Härads Bygdegård
DESCRIPTION: Visning och anbud från kl. 10.30. Varmt välkomna!
END:VEVENT
END:VCALENDAR