BEGIN:VCALENDAR
VERSION:2.0
PRODID:-//eventon.com NONSGML v1.0//EN
BEGIN:VEVENT
UID:69ea0a056b59c
DTSTAMP:20260423T140109
DTSTART:20170603T083000Z
DTEND:20170603T150000Z
LOCATION:Vassunda Bygdegård Vassunda Örby 11 741 91 Knivsta
SUMMARY:Vassunda Bygdegård
DESCRIPTION: Visning och anbud från kl. 10. Äntligen sommar! Läs mer om våra objekt för hem & trädgård nedan.
END:VEVENT
END:VCALENDAR