BEGIN:VCALENDAR
VERSION:2.0
PRODID:-//eventon.com NONSGML v1.0//EN
BEGIN:VEVENT
UID:69eb8aab2935b
DTSTAMP:20260424T172219
DTSTART:20170624T100000Z
DTEND:20170624T215000Z
LOCATION:Rådmansö Bygdegård Gräddö varvsväg 12 760 15 Gräddö
SUMMARY:Rådmansö Bygdegård
DESCRIPTION: Visning och anbud från kl. 11.30. Äntligen sommar! Läs mer om våra objekt för hem & trädgård nedan.
END:VEVENT
END:VCALENDAR