BEGIN:VCALENDAR
VERSION:2.0
PRODID:-//eventon.com NONSGML v1.0//EN
BEGIN:VEVENT
UID:69e882f35bd85
DTSTAMP:20260422T101235
DTSTART:20170717T150000Z
DTEND:20170717T215000Z
LOCATION:Lundegård Logen Lundegård 1 387 96 Köpingsvik
SUMMARY:Lundegårds loge
DESCRIPTION: Visning och anbud från kl. 16.30. Äntligen sommar! Läs mer om våra objekt för hem & trädgård nedan.
END:VEVENT
END:VCALENDAR