BEGIN:VCALENDAR
VERSION:2.0
PRODID:-//eventon.com NONSGML v1.0//EN
BEGIN:VEVENT
UID:69eb42fa6a495
DTSTAMP:20260424T121626
DTSTART:20180108T153000Z
DTEND:20180108T215000Z
LOCATION:Sparregården Östra Prinsgatan 4 371 31 Karlskrona
SUMMARY:Sparresalen Karlskrona
DESCRIPTION: Visning och anbud från kl. 17. Börja det nya året med inspirerande auktioner! Läs mer om våra objekt för hem & trädgård nedan eller här.
END:VEVENT
END:VCALENDAR