BEGIN:VCALENDAR
VERSION:2.0
PRODID:-//eventon.com NONSGML v1.0//EN
BEGIN:VEVENT
UID:69eb6d11ed499
DTSTAMP:20260424T151601
DTSTART:20180519T110000Z
DTEND:20180519T215000Z
LOCATION:Hästholmens Bygdegård Tägnegatan 3 599 93 Ödeshög
SUMMARY:Hästholmens Bygdegård\,  Ödeshög
DESCRIPTION: Visning och anbud från kl. 12.30. Äntligen vår\,  kom och inspireras hos oss! Läs mer om våra objekt för hem & trädgård nedan eller här.
END:VEVENT
END:VCALENDAR