BEGIN:VCALENDAR
VERSION:2.0
PRODID:-//eventon.com NONSGML v1.0//EN
BEGIN:VEVENT
UID:69ecf174dbf52
DTSTAMP:20260425T185308
DTSTART:20180624T100000Z
DTEND:20180624T215000Z
LOCATION:Lindersborgs Bygdegård Ekeby 642 96 Malmköping
SUMMARY:Lindersborgs Bygdegård\,  Malmköping
DESCRIPTION: Visning och anbud från kl. 11.30. Sommartider\,  kom och inspireras hos oss! Läs mer om våra objekt för hem & trädgård nedan eller här.
END:VEVENT
END:VCALENDAR