BEGIN:VCALENDAR
VERSION:2.0
PRODID:-//eventon.com NONSGML v1.0//EN
BEGIN:VEVENT
UID:69e5030530669
DTSTAMP:20260419T182957
DTSTART:20180708T100000Z
DTEND:20180708T215000Z
LOCATION:Söderögården Långalma Långalma 515 742 91 Östhammar
SUMMARY:Söderögården Långalma\,  Östhammar
DESCRIPTION: Visning och anbud från kl. 11.30. Äntligen sommar - varmt välkommen att inspireras hos oss! Läs mer om våra objekt för hem & trädgård nedan eller här.
END:VEVENT
END:VCALENDAR