BEGIN:VCALENDAR
VERSION:2.0
PRODID:-//eventon.com NONSGML v1.0//EN
BEGIN:VEVENT
UID:69e4eff1c5ad1
DTSTAMP:20260419T170833
DTSTART:20180726T150000Z
DTEND:20180726T215000Z
LOCATION:Siljansnäs Sockenstuga Björkbergsvägen 58 793 60 Siljansnäs
SUMMARY:Siljansnäs Sockenstuga
DESCRIPTION: Visning och anbud från kl. 16.30. Äntligen sommar - varmt välkommen att inspireras hos oss! Läs mer om våra objekt för hem & trädgård nedan eller här.
END:VEVENT
END:VCALENDAR