BEGIN:VCALENDAR
VERSION:2.0
PRODID:-//eventon.com NONSGML v1.0//EN
BEGIN:VEVENT
UID:69ebc463e5b6e
DTSTAMP:20260424T212835
DTSTART:20180812T110000Z
DTEND:20180812T215000Z
LOCATION:Vätö Folkets Hus Hargs by 86 760 21 Vätö
SUMMARY:Vätö Folkets Hus
DESCRIPTION: Visning och anbud från kl. 12.30. Sommarens stora auktion - varmt välkommen att inspireras hos oss! Läs mer om våra objekt för hem & trädgård nedan eller här.
END:VEVENT
END:VCALENDAR