BEGIN:VCALENDAR
VERSION:2.0
PRODID:-//eventon.com NONSGML v1.0//EN
BEGIN:VEVENT
UID:69eba1b22caa9
DTSTAMP:20260424T190034
DTSTART:20181021T100000Z
DTEND:20181021T215000Z
LOCATION:Kungälvsparken Karebyvägen 4B 442 34 Kungälv
SUMMARY:Folkets Park Kungälv
DESCRIPTION: Visning och anbud från kl. 11.30. SÄSONGSAVSLUTNING! Sommaravslutning - varmt välkommen att inspireras och fynda hos oss! Läs mer om våra objekt för hem & trädgård nedan eller här.
END:VEVENT
END:VCALENDAR