BEGIN:VCALENDAR
VERSION:2.0
PRODID:-//eventon.com NONSGML v1.0//EN
BEGIN:VEVENT
UID:69e9e06168cf8
DTSTAMP:20260423T110329
DTSTART:20181229T110000Z
DTEND:20181229T215000Z
LOCATION:Vrena Folkets Hus Parkvägen 15 611 73 Vrena
SUMMARY:Vrena Folkets Hus\,  Nyköping
DESCRIPTION: Visning och anbud från kl. 12.30. Mellandagsauktioner! Inredning för alla - varmt välkommen att inspireras och fynda hos oss! Läs mer om våra objekt för hem & trädgård nedan eller här.
END:VEVENT
END:VCALENDAR