BEGIN:VCALENDAR
VERSION:2.0
PRODID:-//eventon.com NONSGML v1.0//EN
BEGIN:VEVENT
UID:69eb540283f39
DTSTAMP:20260424T132906
DTSTART:20190316T110000Z
DTEND:20190316T215000Z
LOCATION:Tidaholms Folkets Park Egnahemsvägen 59 522 32 Tidaholm
SUMMARY:Tidaholms Folkets Park
DESCRIPTION: Visning och anbud från kl. 12.30. Hem & trädgård! Inredning för alla - varmt välkommen att inspireras och fynda hos oss. Läs mer om våra objekt nedan eller här.
END:VEVENT
END:VCALENDAR