BEGIN:VCALENDAR
VERSION:2.0
PRODID:-//eventon.com NONSGML v1.0//EN
BEGIN:VEVENT
UID:69e5e87132327
DTSTAMP:20260420T104849
DTSTART:20190323T110000Z
DTEND:20190323T215000Z
LOCATION:Stavsjö Föreningshus 618 95 Stavsjö
SUMMARY:Stavsjö Föreningshus\,  Kolmården
DESCRIPTION: Visning och anbud från kl. 12.30. Hem & trädgård! Inredning för alla - varmt välkommen att inspireras och fynda hos oss. Läs mer om våra objekt nedan eller här.
END:VEVENT
END:VCALENDAR