BEGIN:VCALENDAR
VERSION:2.0
PRODID:-//eventon.com NONSGML v1.0//EN
BEGIN:VEVENT
UID:69e5e86623e00
DTSTAMP:20260420T104838
DTSTART:20190616T110000Z
DTEND:20190616T215000Z
LOCATION:Västerhaninge Bygdegård Stationsvägen 15 137 38 Västerhaninge
SUMMARY:Västerhaninge Bygdegård
DESCRIPTION: Visning och anbud från kl. 12.30. Underbara sommar\,  där auktionerna bjuder på ting för både hem & trädgård! Inredning för alla - varmt välkommen att inspireras och fynda hos oss. Läs mer om våra objekt nedan eller här.
END:VEVENT
END:VCALENDAR