BEGIN:VCALENDAR
VERSION:2.0
PRODID:-//eventon.com NONSGML v1.0//EN
BEGIN:VEVENT
UID:69e4e617a3e65
DTSTAMP:20260419T162631
DTSTART:20190630T120000Z
DTEND:20190630T215000Z
LOCATION:Farsta Gård Farstaängsvägen 22 123 46 Farsta
SUMMARY:Farsta Gård\,  Stockholm
DESCRIPTION: Visning och anbud från kl. 13.30. Underbara sommar\,  där auktionerna bjuder på ting för både hem & trädgård! Inredning för alla - varmt välkommen att inspireras och fynda hos oss. Läs mer om våra objekt nedan eller här.
END:VEVENT
END:VCALENDAR