BEGIN:VCALENDAR
VERSION:2.0
PRODID:-//eventon.com NONSGML v1.0//EN
BEGIN:VEVENT
UID:69e563b7090ba
DTSTAMP:20260420T012231
DTSTART:20190715T150000Z
DTEND:20190715T215000Z
LOCATION:Lundegård Logen Lundegård 1 387 96 Köpingsvik
SUMMARY:Lundegårds loge\,  Öland
DESCRIPTION: Visning och anbud från kl. 16.30. Underbara sommar\,  där auktionerna bjuder på ting för både hem & trädgård! Inredning för alla - varmt välkommen att inspireras och fynda hos oss. Läs mer om våra objekt nedan eller här.
END:VEVENT
END:VCALENDAR