BEGIN:VCALENDAR
VERSION:2.0
PRODID:-//eventon.com NONSGML v1.0//EN
BEGIN:VEVENT
UID:69e610a72eefb
DTSTAMP:20260420T134023
DTSTART:20190721T120000Z
DTEND:20190721T215000Z
LOCATION:Norrögården Sund 227 742 93 Östhammar
SUMMARY:Norrögården\,  Östhammar
DESCRIPTION: Visning och anbud från kl. 13.30. Underbara sommar\,  där auktionerna bjuder på ting för både hem & trädgård! Inredning för alla - varmt välkommen att inspireras och fynda hos oss. Läs mer om våra objekt nedan eller här.
END:VEVENT
END:VCALENDAR