BEGIN:VCALENDAR
VERSION:2.0
PRODID:-//eventon.com NONSGML v1.0//EN
BEGIN:VEVENT
UID:69eca91d8099d
DTSTAMP:20260425T134429
DTSTART:20190730T140000Z
DTEND:20190730T215000Z
LOCATION:Havdhem Bygdegård Havdhem 623 41 Gotland
SUMMARY:Havdhem Bygdegård\,  Gotland
DESCRIPTION: Visning och anbud från kl. 15.30. Underbara sommar\,  där auktionerna bjuder på ting för både hem & trädgård! Inredning för alla - varmt välkommen att inspireras och fynda hos oss. Läs mer om våra objekt nedan eller här.
END:VEVENT
END:VCALENDAR