BEGIN:VCALENDAR
VERSION:2.0
PRODID:-//eventon.com NONSGML v1.0//EN
BEGIN:VEVENT
UID:69ec1cd9e6aa2
DTSTAMP:20260425T034601
DTSTART:20191110T110000Z
DTEND:20191110T215000Z
LOCATION:Älta Kulturknut Oxelvägen 42 138 30 Älta
SUMMARY:Älta Kulturknut\,  Nacka
DESCRIPTION: Dörrarna öppnas kl. 12.30 Auktionsstart kl. 13.00 → Mer info kommer
END:VEVENT
END:VCALENDAR